BEGIN:VCALENDAR
VERSION:2.0
PRODID:-//Centre-ville de Saint-Félicien - ECPv6.15.11//NONSGML v1.0//EN
CALSCALE:GREGORIAN
METHOD:PUBLISH
X-WR-CALNAME:Centre-ville de Saint-Félicien
X-ORIGINAL-URL:https://centrevillestfe.ca
X-WR-CALDESC:Évènements pour Centre-ville de Saint-Félicien
REFRESH-INTERVAL;VALUE=DURATION:PT1H
X-Robots-Tag:noindex
X-PUBLISHED-TTL:PT1H
BEGIN:VTIMEZONE
TZID:America/Halifax
BEGIN:DAYLIGHT
TZOFFSETFROM:-0400
TZOFFSETTO:-0300
TZNAME:ADT
DTSTART:20240310T060000
END:DAYLIGHT
BEGIN:STANDARD
TZOFFSETFROM:-0300
TZOFFSETTO:-0400
TZNAME:AST
DTSTART:20241103T050000
END:STANDARD
BEGIN:DAYLIGHT
TZOFFSETFROM:-0400
TZOFFSETTO:-0300
TZNAME:ADT
DTSTART:20250309T060000
END:DAYLIGHT
BEGIN:STANDARD
TZOFFSETFROM:-0300
TZOFFSETTO:-0400
TZNAME:AST
DTSTART:20251102T050000
END:STANDARD
BEGIN:DAYLIGHT
TZOFFSETFROM:-0400
TZOFFSETTO:-0300
TZNAME:ADT
DTSTART:20260308T060000
END:DAYLIGHT
BEGIN:STANDARD
TZOFFSETFROM:-0300
TZOFFSETTO:-0400
TZNAME:AST
DTSTART:20261101T050000
END:STANDARD
BEGIN:DAYLIGHT
TZOFFSETFROM:-0400
TZOFFSETTO:-0300
TZNAME:ADT
DTSTART:20270314T060000
END:DAYLIGHT
BEGIN:STANDARD
TZOFFSETFROM:-0300
TZOFFSETTO:-0400
TZNAME:AST
DTSTART:20271107T050000
END:STANDARD
END:VTIMEZONE
BEGIN:VEVENT
DTSTART;TZID=America/Halifax:20260207T190000
DTEND;TZID=America/Halifax:20260208T160000
DTSTAMP:20260420T142857
CREATED:20260129T180613Z
LAST-MODIFIED:20260129T180827Z
UID:237587-1770490800-1770566400@centrevillestfe.ca
SUMMARY:SOIRÉE DANSE EN LIGNE FIN DE SEMAINE DU 7-8 FÉVRIER VILLAGE BORÉAL
DESCRIPTION:
URL:https://centrevillestfe.ca/evenement/soiree-danse-en-ligne-fin-de-semaine-du-7-8-fevrier-village-boreal/
LOCATION:Village Boréal Sait-Félicien
CATEGORIES:Activité
END:VEVENT
BEGIN:VEVENT
DTSTART;TZID=America/Halifax:20251031T000000
DTEND;TZID=America/Halifax:20251031T000000
DTSTAMP:20260420T142857
CREATED:20250629T142750Z
LAST-MODIFIED:20250629T142750Z
UID:237378-1761868800-1761868800@centrevillestfe.ca
SUMMARY:Halloween
DESCRIPTION:Programmation à venir!
URL:https://centrevillestfe.ca/evenement/halloween/
LOCATION:Parc Sacré-Cœur\, 1240 boulevard Sacré-Cœur\, Saint-Félicien\, Québec\, G8K 2R2\, Canada
CATEGORIES:Fête
ATTACH;FMTTYPE=image/jpeg:https://centrevillestfe.ca/wp-content/uploads/2025/06/halloween.jpg
END:VEVENT
BEGIN:VEVENT
DTSTART;VALUE=DATE:20250926
DTEND;VALUE=DATE:20250929
DTSTAMP:20260420T142857
CREATED:20250629T140341Z
LAST-MODIFIED:20250629T152047Z
UID:237376-1758844800-1759103999@centrevillestfe.ca
SUMMARY:Journées de la culture
DESCRIPTION:Programmation à venir!
URL:https://centrevillestfe.ca/evenement/journee-de-la-culture/
CATEGORIES:Fête
ATTACH;FMTTYPE=image/png:https://centrevillestfe.ca/wp-content/uploads/2025/06/journnee-culture-scaled.png
END:VEVENT
BEGIN:VEVENT
DTSTART;TZID=America/Halifax:20250919T190000
DTEND;TZID=America/Halifax:20250919T213000
DTSTAMP:20260420T142857
CREATED:20250629T161918Z
LAST-MODIFIED:20250629T161918Z
UID:237429-1758308400-1758317400@centrevillestfe.ca
SUMMARY:Musique et danse à la Féliscène - Ben Musique
DESCRIPTION:
URL:https://centrevillestfe.ca/evenement/musique-et-danse-a-la-feliscene-ben-musique-5/
CATEGORIES:Activité,Musique et danse à la Féliscène
ATTACH;FMTTYPE=image/jpeg:https://centrevillestfe.ca/wp-content/uploads/2025/06/Sans-titre-1200-x-630-px.jpg
END:VEVENT
BEGIN:VEVENT
DTSTART;TZID=America/Halifax:20250912T190000
DTEND;TZID=America/Halifax:20250912T213000
DTSTAMP:20260420T142857
CREATED:20250629T161819Z
LAST-MODIFIED:20250629T161819Z
UID:237428-1757703600-1757712600@centrevillestfe.ca
SUMMARY:Musique et danse à la Féliscène - Steeve Dupuis
DESCRIPTION:
URL:https://centrevillestfe.ca/evenement/musique-et-danse-a-la-feliscene-steeve-dupuis-3/
LOCATION:Féliscène\, 1058 boulevard du Sacré-Cœur\, Saint-Félicien\, Québec\, G8K 1R2\, Canada
CATEGORIES:Activité,Musique et danse à la Féliscène
ATTACH;FMTTYPE=image/jpeg:https://centrevillestfe.ca/wp-content/uploads/2025/06/Sans-titre-1200-x-630-px.jpg
END:VEVENT
BEGIN:VEVENT
DTSTART;TZID=America/Halifax:20250905T190000
DTEND;TZID=America/Halifax:20250905T213000
DTSTAMP:20260420T142857
CREATED:20250629T160945Z
LAST-MODIFIED:20250629T160945Z
UID:237427-1757098800-1757107800@centrevillestfe.ca
SUMMARY:Musique et danse à la Féliscène - Ghislain Gaumond
DESCRIPTION:
URL:https://centrevillestfe.ca/evenement/musique-et-danse-a-la-feliscene-ghislain-gaumond-4/
LOCATION:Féliscène\, 1058 boulevard du Sacré-Cœur\, Saint-Félicien\, Québec\, G8K 1R2\, Canada
CATEGORIES:Activité,Musique et danse à la Féliscène
ATTACH;FMTTYPE=image/jpeg:https://centrevillestfe.ca/wp-content/uploads/2025/06/Sans-titre-1200-x-630-px.jpg
END:VEVENT
BEGIN:VEVENT
DTSTART;TZID=America/Halifax:20250830T190000
DTEND;TZID=America/Halifax:20250830T213000
DTSTAMP:20260420T142857
CREATED:20250629T160142Z
LAST-MODIFIED:20250629T160830Z
UID:237426-1756580400-1756589400@centrevillestfe.ca
SUMMARY:Musique et danse à la Féliscène - Ghislain Gaumond
DESCRIPTION:
URL:https://centrevillestfe.ca/evenement/musique-et-danse-a-la-feliscene-ghislain-gaumond-3/
LOCATION:Féliscène\, 1058 boulevard du Sacré-Cœur\, Saint-Félicien\, Québec\, G8K 1R2\, Canada
CATEGORIES:Activité,Musique et danse à la Féliscène
ATTACH;FMTTYPE=image/jpeg:https://centrevillestfe.ca/wp-content/uploads/2025/06/Sans-titre-1200-x-630-px.jpg
END:VEVENT
BEGIN:VEVENT
DTSTART;TZID=America/Halifax:20250829T000000
DTEND;TZID=America/Halifax:20250829T000000
DTSTAMP:20260420T142857
CREATED:20250629T135817Z
LAST-MODIFIED:20250629T152107Z
UID:237374-1756425600-1756425600@centrevillestfe.ca
SUMMARY:Vive la rentrée
DESCRIPTION:Programmation à venir!
URL:https://centrevillestfe.ca/evenement/vive-la-rentree/
LOCATION:Féliscène\, 1058 boulevard du Sacré-Cœur\, Saint-Félicien\, Québec\, G8K 1R2\, Canada
CATEGORIES:Fête
ATTACH;FMTTYPE=image/png:https://centrevillestfe.ca/wp-content/uploads/2025/06/vive-la-rentree.png
END:VEVENT
BEGIN:VEVENT
DTSTART;TZID=America/Halifax:20250828T190000
DTEND;TZID=America/Halifax:20250828T213000
DTSTAMP:20260420T142857
CREATED:20250629T155952Z
LAST-MODIFIED:20250629T155952Z
UID:237425-1756407600-1756416600@centrevillestfe.ca
SUMMARY:Musique et danse à la Féliscène - DJ Dan et sa gang
DESCRIPTION:En collaboration avec Équi-passion.
URL:https://centrevillestfe.ca/evenement/musique-et-danse-a-la-feliscene-dj-dan-et-sa-gang-4/
LOCATION:Féliscène\, 1058 boulevard du Sacré-Cœur\, Saint-Félicien\, Québec\, G8K 1R2\, Canada
CATEGORIES:Activité,Musique et danse à la Féliscène
ATTACH;FMTTYPE=image/jpeg:https://centrevillestfe.ca/wp-content/uploads/2025/06/Sans-titre-1200-x-630-px.jpg
END:VEVENT
BEGIN:VEVENT
DTSTART;TZID=America/Halifax:20250823T190000
DTEND;TZID=America/Halifax:20250823T213000
DTSTAMP:20260420T142857
CREATED:20250629T155757Z
LAST-MODIFIED:20250629T155757Z
UID:237423-1755975600-1755984600@centrevillestfe.ca
SUMMARY:Musique et danse à la Féliscène - Ben Musique
DESCRIPTION:
URL:https://centrevillestfe.ca/evenement/musique-et-danse-a-la-feliscene-ben-musique-4/
LOCATION:Féliscène\, 1058 boulevard du Sacré-Cœur\, Saint-Félicien\, Québec\, G8K 1R2\, Canada
CATEGORIES:Activité,Musique et danse à la Féliscène
ATTACH;FMTTYPE=image/jpeg:https://centrevillestfe.ca/wp-content/uploads/2025/06/Sans-titre-1200-x-630-px.jpg
END:VEVENT
BEGIN:VEVENT
DTSTART;TZID=America/Halifax:20250822T180000
DTEND;TZID=America/Halifax:20250822T213000
DTSTAMP:20260420T142857
CREATED:20250629T155706Z
LAST-MODIFIED:20250629T155706Z
UID:237422-1755885600-1755898200@centrevillestfe.ca
SUMMARY:Musique et danse à la Féliscène - Suzanne Lavoie
DESCRIPTION:Lecçon de danse à 18 h.
URL:https://centrevillestfe.ca/evenement/musique-et-danse-a-la-feliscene-suzanne-lavoie-3/
LOCATION:Féliscène\, 1058 boulevard du Sacré-Cœur\, Saint-Félicien\, Québec\, G8K 1R2\, Canada
CATEGORIES:Activité,Musique et danse à la Féliscène
ATTACH;FMTTYPE=image/jpeg:https://centrevillestfe.ca/wp-content/uploads/2025/06/Sans-titre-1200-x-630-px.jpg
END:VEVENT
BEGIN:VEVENT
DTSTART;TZID=America/Halifax:20250821T190000
DTEND;TZID=America/Halifax:20250821T213000
DTSTAMP:20260420T142857
CREATED:20250629T155507Z
LAST-MODIFIED:20250629T155507Z
UID:237421-1755802800-1755811800@centrevillestfe.ca
SUMMARY:Musique et danse à la Féliscène - Disco Léo
DESCRIPTION:
URL:https://centrevillestfe.ca/evenement/musique-et-danse-a-la-feliscene-disco-leo-3/
LOCATION:Féliscène\, 1058 boulevard du Sacré-Cœur\, Saint-Félicien\, Québec\, G8K 1R2\, Canada
CATEGORIES:Activité,Musique et danse à la Féliscène
ATTACH;FMTTYPE=image/jpeg:https://centrevillestfe.ca/wp-content/uploads/2025/06/Sans-titre-1200-x-630-px.jpg
END:VEVENT
BEGIN:VEVENT
DTSTART;TZID=America/Halifax:20250816T190000
DTEND;TZID=America/Halifax:20250816T213000
DTSTAMP:20260420T142857
CREATED:20250629T155328Z
LAST-MODIFIED:20250629T155328Z
UID:237420-1755370800-1755379800@centrevillestfe.ca
SUMMARY:Musique et danse à la Féliscène - Ben Musique
DESCRIPTION:
URL:https://centrevillestfe.ca/evenement/musique-et-danse-a-la-feliscene-ben-musique-3/
LOCATION:Féliscène\, 1058 boulevard du Sacré-Cœur\, Saint-Félicien\, Québec\, G8K 1R2\, Canada
CATEGORIES:Activité,Musique et danse à la Féliscène
ATTACH;FMTTYPE=image/jpeg:https://centrevillestfe.ca/wp-content/uploads/2025/06/Sans-titre-1200-x-630-px.jpg
END:VEVENT
BEGIN:VEVENT
DTSTART;TZID=America/Halifax:20250815T190000
DTEND;TZID=America/Halifax:20250815T213000
DTSTAMP:20260420T142857
CREATED:20250629T155233Z
LAST-MODIFIED:20250629T155233Z
UID:237419-1755284400-1755293400@centrevillestfe.ca
SUMMARY:Musique et danse à la Féliscène - Ghislain Gaumond
DESCRIPTION:
URL:https://centrevillestfe.ca/evenement/musique-et-danse-a-la-feliscene-ghislain-gaumond-2/
LOCATION:Féliscène\, 1058 boulevard du Sacré-Cœur\, Saint-Félicien\, Québec\, G8K 1R2\, Canada
CATEGORIES:Activité,Musique et danse à la Féliscène
ATTACH;FMTTYPE=image/jpeg:https://centrevillestfe.ca/wp-content/uploads/2025/06/Sans-titre-1200-x-630-px.jpg
END:VEVENT
BEGIN:VEVENT
DTSTART;TZID=America/Halifax:20250814T190000
DTEND;TZID=America/Halifax:20250814T213000
DTSTAMP:20260420T142857
CREATED:20250629T155133Z
LAST-MODIFIED:20250629T155133Z
UID:237418-1755198000-1755207000@centrevillestfe.ca
SUMMARY:Musique et danse à la Féliscène - DJ Dan et sa gang
DESCRIPTION:En collaboration avec Équi-passion.
URL:https://centrevillestfe.ca/evenement/musique-et-danse-a-la-feliscene-dj-dan-et-sa-gang-3/
LOCATION:Féliscène\, 1058 boulevard du Sacré-Cœur\, Saint-Félicien\, Québec\, G8K 1R2\, Canada
CATEGORIES:Activité,Musique et danse à la Féliscène
ATTACH;FMTTYPE=image/jpeg:https://centrevillestfe.ca/wp-content/uploads/2025/06/Sans-titre-1200-x-630-px.jpg
END:VEVENT
BEGIN:VEVENT
DTSTART;TZID=America/Halifax:20250809T190000
DTEND;TZID=America/Halifax:20250809T213000
DTSTAMP:20260420T142857
CREATED:20250629T154913Z
LAST-MODIFIED:20250629T154913Z
UID:237415-1754766000-1754775000@centrevillestfe.ca
SUMMARY:Musique et danse à la Féliscène - Ben Musique
DESCRIPTION:
URL:https://centrevillestfe.ca/evenement/musique-et-danse-a-la-feliscene-ben-musique-2/
LOCATION:Féliscène\, 1058 boulevard du Sacré-Cœur\, Saint-Félicien\, Québec\, G8K 1R2\, Canada
CATEGORIES:Activité,Musique et danse à la Féliscène
ATTACH;FMTTYPE=image/jpeg:https://centrevillestfe.ca/wp-content/uploads/2025/06/Sans-titre-1200-x-630-px.jpg
END:VEVENT
BEGIN:VEVENT
DTSTART;TZID=America/Halifax:20250808T180000
DTEND;TZID=America/Halifax:20250808T213000
DTSTAMP:20260420T142857
CREATED:20250629T154747Z
LAST-MODIFIED:20250629T154755Z
UID:237414-1754676000-1754688600@centrevillestfe.ca
SUMMARY:Musique et danse à la Féliscène - Suzanne Lavoie
DESCRIPTION:Leçon de danse à 18 h.
URL:https://centrevillestfe.ca/evenement/musique-et-danse-a-la-feliscene-suzanne-lavoie-2/
LOCATION:Féliscène\, 1058 boulevard du Sacré-Cœur\, Saint-Félicien\, Québec\, G8K 1R2\, Canada
CATEGORIES:Activité,Musique et danse à la Féliscène
ATTACH;FMTTYPE=image/jpeg:https://centrevillestfe.ca/wp-content/uploads/2025/06/Sans-titre-1200-x-630-px.jpg
END:VEVENT
BEGIN:VEVENT
DTSTART;TZID=America/Halifax:20250807T190000
DTEND;TZID=America/Halifax:20250807T213000
DTSTAMP:20260420T142857
CREATED:20250629T154625Z
LAST-MODIFIED:20250629T154625Z
UID:237413-1754593200-1754602200@centrevillestfe.ca
SUMMARY:Musique et danse à la Féliscène - Nathalie Paquet
DESCRIPTION:
URL:https://centrevillestfe.ca/evenement/musique-et-danse-a-la-feliscene-nathalie-paquet/
LOCATION:Féliscène\, 1058 boulevard du Sacré-Cœur\, Saint-Félicien\, Québec\, G8K 1R2\, Canada
CATEGORIES:Activité,Musique et danse à la Féliscène
ATTACH;FMTTYPE=image/jpeg:https://centrevillestfe.ca/wp-content/uploads/2025/06/Sans-titre-1200-x-630-px.jpg
END:VEVENT
BEGIN:VEVENT
DTSTART;TZID=America/Halifax:20250802T190000
DTEND;TZID=America/Halifax:20250802T213000
DTSTAMP:20260420T142857
CREATED:20250629T154529Z
LAST-MODIFIED:20250629T154529Z
UID:237412-1754161200-1754170200@centrevillestfe.ca
SUMMARY:Musique et danse à la Féliscène - Disco Léo
DESCRIPTION:
URL:https://centrevillestfe.ca/evenement/musique-et-danse-a-la-feliscene-disco-leo-2/
LOCATION:Féliscène\, 1058 boulevard du Sacré-Cœur\, Saint-Félicien\, Québec\, G8K 1R2\, Canada
CATEGORIES:Activité,Musique et danse à la Féliscène
ATTACH;FMTTYPE=image/jpeg:https://centrevillestfe.ca/wp-content/uploads/2025/06/Sans-titre-1200-x-630-px.jpg
END:VEVENT
BEGIN:VEVENT
DTSTART;TZID=America/Halifax:20250801T190000
DTEND;TZID=America/Halifax:20250801T213000
DTSTAMP:20260420T142857
CREATED:20250629T154325Z
LAST-MODIFIED:20250629T154325Z
UID:237410-1754074800-1754083800@centrevillestfe.ca
SUMMARY:Musique et danse à la Féliscène - Steeve Dupuis
DESCRIPTION:
URL:https://centrevillestfe.ca/evenement/musique-et-danse-a-la-feliscene-steeve-dupuis-2/
LOCATION:Féliscène\, 1058 boulevard du Sacré-Cœur\, Saint-Félicien\, Québec\, G8K 1R2\, Canada
CATEGORIES:Activité,Musique et danse à la Féliscène
ATTACH;FMTTYPE=image/jpeg:https://centrevillestfe.ca/wp-content/uploads/2025/06/Sans-titre-1200-x-630-px.jpg
END:VEVENT
BEGIN:VEVENT
DTSTART;TZID=America/Halifax:20250731T190000
DTEND;TZID=America/Halifax:20250731T213000
DTSTAMP:20260420T142857
CREATED:20250629T154222Z
LAST-MODIFIED:20250629T154222Z
UID:237409-1753988400-1753997400@centrevillestfe.ca
SUMMARY:Musique et danse à la Féliscène - DJ Dan et sa gang
DESCRIPTION:En collaboration avec Équi-passion.
URL:https://centrevillestfe.ca/evenement/musique-et-danse-a-la-feliscene-dj-dan-et-sa-gang-2/
LOCATION:Féliscène\, 1058 boulevard du Sacré-Cœur\, Saint-Félicien\, Québec\, G8K 1R2\, Canada
CATEGORIES:Activité,Musique et danse à la Féliscène
ATTACH;FMTTYPE=image/jpeg:https://centrevillestfe.ca/wp-content/uploads/2025/06/Sans-titre-1200-x-630-px.jpg
END:VEVENT
BEGIN:VEVENT
DTSTART;TZID=America/Halifax:20250730T193000
DTEND;TZID=America/Halifax:20250730T210000
DTSTAMP:20260420T142857
CREATED:20250629T145435Z
LAST-MODIFIED:20250629T152218Z
UID:237390-1753903800-1753909200@centrevillestfe.ca
SUMMARY:Saveurs musicales d'ici - Les Anktils
DESCRIPTION:
URL:https://centrevillestfe.ca/evenement/saveurs-musicales-dici-les-anktils/
LOCATION:Féliscène\, 1058 boulevard du Sacré-Cœur\, Saint-Félicien\, Québec\, G8K 1R2\, Canada
CATEGORIES:Activité,Saveurs musicales d'ici
ATTACH;FMTTYPE=image/png:https://centrevillestfe.ca/wp-content/uploads/2025/06/les-anktils.png
END:VEVENT
BEGIN:VEVENT
DTSTART;TZID=America/Halifax:20250727T133000
DTEND;TZID=America/Halifax:20250727T160000
DTSTAMP:20260420T142857
CREATED:20250629T152807Z
LAST-MODIFIED:20250710T223114Z
UID:237404-1753623000-1753632000@centrevillestfe.ca
SUMMARY:Musique et danse à la Féliscène - Ghislain Gaumond
DESCRIPTION:
URL:https://centrevillestfe.ca/evenement/musique-et-danse-a-la-feliscene-ghislain-gaumond/
LOCATION:Féliscène\, 1058 boulevard du Sacré-Cœur\, Saint-Félicien\, Québec\, G8K 1R2\, Canada
CATEGORIES:Activité,Musique et danse à la Féliscène
ATTACH;FMTTYPE=image/jpeg:https://centrevillestfe.ca/wp-content/uploads/2025/06/Sans-titre-1200-x-630-px.jpg
END:VEVENT
BEGIN:VEVENT
DTSTART;TZID=America/Halifax:20250726T180000
DTEND;TZID=America/Halifax:20250726T213000
DTSTAMP:20260420T142857
CREATED:20250629T154103Z
LAST-MODIFIED:20250629T154103Z
UID:237408-1753552800-1753565400@centrevillestfe.ca
SUMMARY:Musique et danse à la Féliscène - Suzanne Lavoie
DESCRIPTION:
URL:https://centrevillestfe.ca/evenement/musique-et-danse-a-la-feliscene-suzanne-lavoie/
LOCATION:Féliscène\, 1058 boulevard du Sacré-Cœur\, Saint-Félicien\, Québec\, G8K 1R2\, Canada
CATEGORIES:Activité,Musique et danse à la Féliscène
ATTACH;FMTTYPE=image/jpeg:https://centrevillestfe.ca/wp-content/uploads/2025/06/Sans-titre-1200-x-630-px.jpg
END:VEVENT
BEGIN:VEVENT
DTSTART;TZID=America/Halifax:20250725T190000
DTEND;TZID=America/Halifax:20250725T213000
DTSTAMP:20260420T142857
CREATED:20250629T153941Z
LAST-MODIFIED:20250629T153941Z
UID:237407-1753470000-1753479000@centrevillestfe.ca
SUMMARY:Musique et danse à la Féliscène - Ben Musique
DESCRIPTION:
URL:https://centrevillestfe.ca/evenement/musique-et-danse-a-la-feliscene-ben-musique/
LOCATION:Féliscène\, 1058 boulevard du Sacré-Cœur\, Saint-Félicien\, Québec\, G8K 1R2\, Canada
CATEGORIES:Activité
ATTACH;FMTTYPE=image/jpeg:https://centrevillestfe.ca/wp-content/uploads/2025/06/Sans-titre-1200-x-630-px.jpg
END:VEVENT
BEGIN:VEVENT
DTSTART;TZID=America/Halifax:20250723T190000
DTEND;TZID=America/Halifax:20250723T210000
DTSTAMP:20260420T142857
CREATED:20250629T145334Z
LAST-MODIFIED:20250629T152230Z
UID:237389-1753297200-1753304400@centrevillestfe.ca
SUMMARY:Saveurs musicales d'ici - Fidjis
DESCRIPTION:
URL:https://centrevillestfe.ca/evenement/saveurs-musicales-dici-fidjis/
LOCATION:Féliscène\, 1058 boulevard du Sacré-Cœur\, Saint-Félicien\, Québec\, G8K 1R2\, Canada
CATEGORIES:Activité,Saveurs musicales d'ici
ATTACH;FMTTYPE=image/png:https://centrevillestfe.ca/wp-content/uploads/2025/06/fidjis.png
END:VEVENT
BEGIN:VEVENT
DTSTART;TZID=America/Halifax:20250718T190000
DTEND;TZID=America/Halifax:20250718T213000
DTSTAMP:20260420T142857
CREATED:20250629T153646Z
LAST-MODIFIED:20250629T153646Z
UID:237406-1752865200-1752874200@centrevillestfe.ca
SUMMARY:Musique et danse à la Féliscène - Disco Léo
DESCRIPTION:
URL:https://centrevillestfe.ca/evenement/musique-et-danse-a-la-feliscene-disco-leo/
LOCATION:Féliscène\, 1058 boulevard du Sacré-Cœur\, Saint-Félicien\, Québec\, G8K 1R2\, Canada
CATEGORIES:Activité,Musique et danse à la Féliscène
ATTACH;FMTTYPE=image/jpeg:https://centrevillestfe.ca/wp-content/uploads/2025/06/Sans-titre-1200-x-630-px.jpg
END:VEVENT
BEGIN:VEVENT
DTSTART;TZID=America/Halifax:20250717T190000
DTEND;TZID=America/Halifax:20250717T213000
DTSTAMP:20260420T142857
CREATED:20250629T152943Z
LAST-MODIFIED:20250629T152943Z
UID:237405-1752778800-1752787800@centrevillestfe.ca
SUMMARY:Musique et danse à la Féliscène - DJ Dan et sa gang
DESCRIPTION:En collaboration avec Équi-passion.
URL:https://centrevillestfe.ca/evenement/musique-et-danse-a-la-feliscene-dj-dan-et-sa-gang/
LOCATION:Féliscène\, 1058 boulevard du Sacré-Cœur\, Saint-Félicien\, Québec\, G8K 1R2\, Canada
CATEGORIES:Activité,Musique et danse à la Féliscène
ATTACH;FMTTYPE=image/jpeg:https://centrevillestfe.ca/wp-content/uploads/2025/06/Sans-titre-1200-x-630-px.jpg
END:VEVENT
BEGIN:VEVENT
DTSTART;TZID=America/Halifax:20250716T193000
DTEND;TZID=America/Halifax:20250716T210000
DTSTAMP:20260420T142857
CREATED:20250629T145226Z
LAST-MODIFIED:20250629T152237Z
UID:237388-1752694200-1752699600@centrevillestfe.ca
SUMMARY:Saveurs musicales d'ici - Réjean Lapointe
DESCRIPTION:
URL:https://centrevillestfe.ca/evenement/saveurs-musicales-dici-rejean-lapointe/
LOCATION:Féliscène\, 1058 boulevard du Sacré-Cœur\, Saint-Félicien\, Québec\, G8K 1R2\, Canada
CATEGORIES:Activité,Saveurs musicales d'ici
ATTACH;FMTTYPE=image/png:https://centrevillestfe.ca/wp-content/uploads/2025/06/rejean-lapointe.png
END:VEVENT
BEGIN:VEVENT
DTSTART;TZID=America/Halifax:20250712T130000
DTEND;TZID=America/Halifax:20250712T230000
DTSTAMP:20260420T142857
CREATED:20250629T135404Z
LAST-MODIFIED:20250629T135421Z
UID:237372-1752325200-1752361200@centrevillestfe.ca
SUMMARY:La Grande Fête du Vivre ensemble
DESCRIPTION: 𝗟𝗮 𝗚𝗿𝗮𝗻𝗱𝗲 𝗙𝗲̂𝘁𝗲 𝗱𝘂 𝗩𝗶𝘃𝗿𝗲 𝗘𝗻𝘀𝗲𝗺𝗯𝗹𝗲 𝗲𝘀𝘁 𝗱𝗲 𝗿𝗲𝘁𝗼𝘂𝗿 𝗽𝗼𝘂𝗿 𝘂𝗻𝗲 𝟯𝗲 𝗲́𝗱𝗶𝘁𝗶𝗼𝗻ⵑ \nLe samedi 12 juillet 2025\, on vous invite à un rassemblement festif pour célébrer la diversité\, la solidarité et le vivre-ensemble\, entre cultures et générations!\n Où? Site de la Maison de la culture (1058\, boulevard du Sacré-Cœur\, Saint-Félicien)\n𝗔𝘂 𝗽𝗿𝗼𝗴𝗿𝗮𝗺𝗺𝗲 :\n 13h à 16h : Activités familiales gratuites et kiosques à découvrir!\n En soirée : Laissez-vous tenter par un délicieux souper aux saveurs d’ici et d’ailleurs ( coût à confirmer – argent comptant seulement).\n Puis\, place au défilé des communautés et à une soirée dansante!\n𝗖𝗲𝘁𝘁𝗲 𝗮𝗰𝘁𝗶𝘃𝗶𝘁𝗲́ 𝗲𝘀𝘁 𝗿𝗲́𝗮𝗹𝗶𝘀𝗲́𝗲 𝗴𝗿𝗮̂𝗰𝗲 𝗮𝘂 𝘀𝗼𝘂𝘁𝗶𝗲𝗻 𝗱𝘂 𝗴𝗼𝘂𝘃𝗲𝗿𝗻𝗲𝗺𝗲𝗻𝘁 𝗱𝘂 𝗤𝘂𝗲́𝗯𝗲𝗰 𝗮𝘃𝗲𝗰 𝗹𝗮 𝗩𝗶𝗹𝗹𝗲 𝗦𝗮𝗶𝗻𝘁-𝗙𝗲́𝗹𝗶𝗰𝗶𝗲𝗻\, 𝗹𝗮 𝗠𝗥𝗖 𝗱𝘂 𝗗𝗼𝗺𝗮𝗶𝗻𝗲-𝗱𝘂-𝗥𝗼𝘆 𝗲𝘁 𝗹𝗲𝘀 𝗽𝗮𝗿𝘁𝗲𝗻𝗮𝗶𝗿𝗲𝘀 𝘀𝘂𝗶𝘃𝗮𝗻𝘁𝘀 :\nDesjardinsNancy Guillemette\, députée de RobervalAlexis Brunelle-Duceppe\, député de Lac-Saint-JeanCégep de Saint-FélicienRestaurant Ô mets chinoisSophie FleurieLa Ferme 3JUsine de congélation de St-Bruno\n Notez la date et venez célébrer avec nous! Une journée de découvertes\, de saveurs et de rencontres vous attend!
URL:https://centrevillestfe.ca/evenement/la-grande-fete-du-vivre-ensemble/
LOCATION:Féliscène\, 1058 boulevard du Sacré-Cœur\, Saint-Félicien\, Québec\, G8K 1R2\, Canada
CATEGORIES:Fête
ATTACH;FMTTYPE=image/jpeg:https://centrevillestfe.ca/wp-content/uploads/2025/06/fete-vivre-ensemble-2025.jpg
END:VEVENT
END:VCALENDAR